BEGIN:VCALENDAR
VERSION:2.0
PRODID:-//Trinity United - ECPv6.15.20//NONSGML v1.0//EN
CALSCALE:GREGORIAN
METHOD:PUBLISH
X-WR-CALNAME:Trinity United
X-ORIGINAL-URL:https://trinityunited.church
X-WR-CALDESC:Events for Trinity United
REFRESH-INTERVAL;VALUE=DURATION:PT1H
X-Robots-Tag:noindex
X-PUBLISHED-TTL:PT1H
BEGIN:VTIMEZONE
TZID:America/Thunder_Bay
BEGIN:DAYLIGHT
TZOFFSETFROM:-0500
TZOFFSETTO:-0400
TZNAME:EDT
DTSTART:20230312T070000
END:DAYLIGHT
BEGIN:STANDARD
TZOFFSETFROM:-0400
TZOFFSETTO:-0500
TZNAME:EST
DTSTART:20231105T060000
END:STANDARD
BEGIN:DAYLIGHT
TZOFFSETFROM:-0500
TZOFFSETTO:-0400
TZNAME:EDT
DTSTART:20240310T070000
END:DAYLIGHT
BEGIN:STANDARD
TZOFFSETFROM:-0400
TZOFFSETTO:-0500
TZNAME:EST
DTSTART:20241103T060000
END:STANDARD
BEGIN:DAYLIGHT
TZOFFSETFROM:-0500
TZOFFSETTO:-0400
TZNAME:EDT
DTSTART:20250309T070000
END:DAYLIGHT
BEGIN:STANDARD
TZOFFSETFROM:-0400
TZOFFSETTO:-0500
TZNAME:EST
DTSTART:20251102T060000
END:STANDARD
END:VTIMEZONE
BEGIN:VEVENT
DTSTART;TZID=America/Thunder_Bay:20240505T103000
DTEND;TZID=America/Thunder_Bay:20240505T113000
DTSTAMP:20260422T175257
CREATED:20240219T174559Z
LAST-MODIFIED:20240219T174745Z
UID:735-1714905000-1714908600@trinityunited.church
SUMMARY:Morning Worship: Music Matters at St. Paul's
DESCRIPTION:Trinity and other sister churches will be participating in the Music Matters 2024 Sunday morning worship service\, to be held at St. Paul’s\, on May 5. Everyone is encouraged to attend this special musical service in the pews at St. Paul’s\, or via live-streaming (at tbayunitedmedia.ca or on Trinity Live). Trinity will be closed.
URL:https://trinityunited.church/event/morning-worship-will-be-at-st-pauls/
LOCATION:St. Paul’s United\, 349 Waverley St\, Thunder Bay\, Ontario\, P7B 1B7\, Canada
END:VEVENT
BEGIN:VEVENT
DTSTART;VALUE=DATE:20240518
DTEND;VALUE=DATE:20240519
DTSTAMP:20260422T175257
CREATED:20240213T013038Z
LAST-MODIFIED:20240415T015921Z
UID:730-1715990400-1716076799@trinityunited.church
SUMMARY:Antique Fair
DESCRIPTION:Trinity’s Antique Fair is set for Saturday\, May 18 (9:30-2:00). Jewellery\, housewares\, fine china\, crystal\, figurines\, wall hangings\, collectibles and other decorative items. If you have items to donate\, they may be brought in to Trinity Tuesday\, Thursday and Friday mornings. (Good condition only\, please.)
URL:https://trinityunited.church/event/antique-fair/
LOCATION:Trinity United Church
END:VEVENT
BEGIN:VEVENT
DTSTART;TZID=America/Thunder_Bay:20240524T190000
DTEND;TZID=America/Thunder_Bay:20240524T203000
DTSTAMP:20260422T175257
CREATED:20240506T235244Z
LAST-MODIFIED:20240506T235244Z
UID:788-1716577200-1716582600@trinityunited.church
SUMMARY:Movie Night
DESCRIPTION:Trinity’s next movie night is set for Friday\, May 24. Mark it on the calendar and invite your friends. Movie begins at 7:00 pm but come early to get your popcorn and refreshments. No charge for the movie but a small contribution towards the snackies would be appreciated. Movie title will be announced soon.
URL:https://trinityunited.church/event/movie-night-5/
LOCATION:Trinity United Church
END:VEVENT
END:VCALENDAR