BEGIN:VCALENDAR
VERSION:2.0
PRODID:-//Trinity United - ECPv6.15.20//NONSGML v1.0//EN
CALSCALE:GREGORIAN
METHOD:PUBLISH
X-WR-CALNAME:Trinity United
X-ORIGINAL-URL:https://trinityunited.church
X-WR-CALDESC:Events for Trinity United
REFRESH-INTERVAL;VALUE=DURATION:PT1H
X-Robots-Tag:noindex
X-PUBLISHED-TTL:PT1H
BEGIN:VTIMEZONE
TZID:America/Thunder_Bay
BEGIN:DAYLIGHT
TZOFFSETFROM:-0500
TZOFFSETTO:-0400
TZNAME:EDT
DTSTART:20220313T070000
END:DAYLIGHT
BEGIN:STANDARD
TZOFFSETFROM:-0400
TZOFFSETTO:-0500
TZNAME:EST
DTSTART:20221106T060000
END:STANDARD
BEGIN:DAYLIGHT
TZOFFSETFROM:-0500
TZOFFSETTO:-0400
TZNAME:EDT
DTSTART:20230312T070000
END:DAYLIGHT
BEGIN:STANDARD
TZOFFSETFROM:-0400
TZOFFSETTO:-0500
TZNAME:EST
DTSTART:20231105T060000
END:STANDARD
BEGIN:DAYLIGHT
TZOFFSETFROM:-0500
TZOFFSETTO:-0400
TZNAME:EDT
DTSTART:20240310T070000
END:DAYLIGHT
BEGIN:STANDARD
TZOFFSETFROM:-0400
TZOFFSETTO:-0500
TZNAME:EST
DTSTART:20241103T060000
END:STANDARD
END:VTIMEZONE
BEGIN:VEVENT
DTSTART;TZID=America/Thunder_Bay:20230903T103000
DTEND;TZID=America/Thunder_Bay:20230903T113000
DTSTAMP:20260421T125534
CREATED:20230804T024412Z
LAST-MODIFIED:20230804T024700Z
UID:627-1693737000-1693740600@trinityunited.church
SUMMARY:Sunday Worship\, September 3
DESCRIPTION:Host church for streamed service: Pinegrove United. Worship leader: Rev. Rob Smith.
URL:https://trinityunited.church/event/627/
LOCATION:Trinity United Church
END:VEVENT
BEGIN:VEVENT
DTSTART;TZID=America/Thunder_Bay:20230923T100000
DTEND;TZID=America/Thunder_Bay:20230923T130000
DTSTAMP:20260421T125534
CREATED:20230517T172540Z
LAST-MODIFIED:20230903T210725Z
UID:570-1695463200-1695474000@trinityunited.church
SUMMARY:Fall Flea Market
DESCRIPTION:Saturday\, September 23\, 10 am to 1 pm – Flea Market and Rummage Sale. See POSTER for the event announcement. See the September issue of Around Trinity for more detailed information and to find out how you can help!
URL:https://trinityunited.church/event/fall-flea-market/
LOCATION:Trinity United Church
END:VEVENT
END:VCALENDAR