BEGIN:VCALENDAR
VERSION:2.0
PRODID:-//Trinity United - ECPv6.15.20//NONSGML v1.0//EN
CALSCALE:GREGORIAN
METHOD:PUBLISH
X-ORIGINAL-URL:https://trinityunited.church
X-WR-CALDESC:Events for Trinity United
REFRESH-INTERVAL;VALUE=DURATION:PT1H
X-Robots-Tag:noindex
X-PUBLISHED-TTL:PT1H
BEGIN:VTIMEZONE
TZID:America/Thunder_Bay
BEGIN:DAYLIGHT
TZOFFSETFROM:-0500
TZOFFSETTO:-0400
TZNAME:EDT
DTSTART:20220313T070000
END:DAYLIGHT
BEGIN:STANDARD
TZOFFSETFROM:-0400
TZOFFSETTO:-0500
TZNAME:EST
DTSTART:20221106T060000
END:STANDARD
BEGIN:DAYLIGHT
TZOFFSETFROM:-0500
TZOFFSETTO:-0400
TZNAME:EDT
DTSTART:20230312T070000
END:DAYLIGHT
BEGIN:STANDARD
TZOFFSETFROM:-0400
TZOFFSETTO:-0500
TZNAME:EST
DTSTART:20231105T060000
END:STANDARD
BEGIN:DAYLIGHT
TZOFFSETFROM:-0500
TZOFFSETTO:-0400
TZNAME:EDT
DTSTART:20240310T070000
END:DAYLIGHT
BEGIN:STANDARD
TZOFFSETFROM:-0400
TZOFFSETTO:-0500
TZNAME:EST
DTSTART:20241103T060000
END:STANDARD
END:VTIMEZONE
BEGIN:VEVENT
DTSTART;TZID=America/Thunder_Bay:20230407T103000
DTEND;TZID=America/Thunder_Bay:20230407T113000
DTSTAMP:20260420T085602
CREATED:20230405T153334Z
LAST-MODIFIED:20230405T153334Z
UID:478-1680863400-1680867000@trinityunited.church
SUMMARY:Good Friday
DESCRIPTION:Trinity will be joining Harmony United and other congregations for a Good Friday service at 10:30 a.m. The service will be streamed via the Trinity hub. Trinity will be closed except for the tech crew in charge of the hub.
URL:https://trinityunited.church/event/good-friday/
LOCATION:Harmony United Church\, 1 Shuniah St.\, Thunder Bay\, Ontario\, P7A 2Y7\, Canada
END:VEVENT
BEGIN:VEVENT
DTSTART;TZID=America/Thunder_Bay:20230409T103000
DTEND;TZID=America/Thunder_Bay:20230409T113000
DTSTAMP:20260420T085602
CREATED:20230405T153836Z
LAST-MODIFIED:20230405T153836Z
UID:482-1681036200-1681039800@trinityunited.church
SUMMARY:Easter Sunday
DESCRIPTION:The Easter Sunday multi-site streaming service will be led by St. Paul’s United. Rev. Desire Tiriwepi will be preaching. Pinegrove United will also be participating.
URL:https://trinityunited.church/event/easter-sunday/
END:VEVENT
BEGIN:VEVENT
DTSTART;TZID=America/Thunder_Bay:20230416T103000
DTEND;TZID=America/Thunder_Bay:20230416T113000
DTSTAMP:20260420T085602
CREATED:20230405T155358Z
LAST-MODIFIED:20230405T155358Z
UID:484-1681641000-1681644600@trinityunited.church
SUMMARY:Second Sunday of Easter - Cantata!
DESCRIPTION:First Wesley will be leading the Sunday morning service at St. Paul’s United. The service will be centred around an Easter Cantata called “Awaken Us” by Rick Gunn\, performed by singers and instrumentalists from several sister churches and others from the community at large. The service will be live-streamed. Trinity folks are asked to attend at St. Paul’s. Trinity will be closed except for the tech crew operating the streaming hub.
URL:https://trinityunited.church/event/second-sunday-of-easter-cantata/
LOCATION:St. Paul’s United\, 349 Waverley St\, Thunder Bay\, Ontario\, P7B 1B7\, Canada
END:VEVENT
BEGIN:VEVENT
DTSTART;TZID=America/Thunder_Bay:20230422T093000
DTEND;TZID=America/Thunder_Bay:20230422T153000
DTSTAMP:20260420T085602
CREATED:20230415T041607Z
LAST-MODIFIED:20230415T041607Z
UID:504-1682155800-1682177400@trinityunited.church
SUMMARY:Thunder Bay and Area United Churches Day Together
DESCRIPTION:Thunder Bay and Area United Churches Day Together will be held on Saturday\, April 22\, from 9:30 am to 3:30 pm\, in person at First-Wesley United Church\, 130 Brodie St. N\, in Thunder Bay.  Join Canadian Shield Regional Council staff members Melody Duncanson-Hales\, Diane Matheson-Jimenez\, and Rob Smith for workshops on Stewardship\, Pastoral Care\, Transitions and Courageous Conversations. There will be a time of worship and a shared lunch.  This event is open to anyone who would like to attend\, but registration is required\, so sign up now. \nhttps://canadianshieldrc.ca/communities-of-faith/thunder-bay-and-area-united-churches-day-together/    \nDeadline to register is Wednesday\, April 19 – here’s the agenda.\n9:00 – Coffee and Muffins\n9:30 – Opening worship\n10:00 – Workshop – Getting Started in Stewardship\n11:30 – Lunch and Conversation about the Future\n1:00 – Workshop – Introduction to Pastoral Care\n2:30 – Closing worship
URL:https://trinityunited.church/event/thunder-bay-and-area-united-churches-day-together/
LOCATION:First-Wesley United Church\, 130 Brodie St. N\, Thunder Bay\, ON\, P7C 3S3\, Canada
END:VEVENT
END:VCALENDAR