BEGIN:VCALENDAR
VERSION:2.0
PRODID:-//Trinity United - ECPv6.15.20//NONSGML v1.0//EN
CALSCALE:GREGORIAN
METHOD:PUBLISH
X-ORIGINAL-URL:https://trinityunited.church
X-WR-CALDESC:Events for Trinity United
REFRESH-INTERVAL;VALUE=DURATION:PT1H
X-Robots-Tag:noindex
X-PUBLISHED-TTL:PT1H
BEGIN:VTIMEZONE
TZID:America/Thunder_Bay
BEGIN:DAYLIGHT
TZOFFSETFROM:-0500
TZOFFSETTO:-0400
TZNAME:EDT
DTSTART:20230312T070000
END:DAYLIGHT
BEGIN:STANDARD
TZOFFSETFROM:-0400
TZOFFSETTO:-0500
TZNAME:EST
DTSTART:20231105T060000
END:STANDARD
BEGIN:DAYLIGHT
TZOFFSETFROM:-0500
TZOFFSETTO:-0400
TZNAME:EDT
DTSTART:20240310T070000
END:DAYLIGHT
BEGIN:STANDARD
TZOFFSETFROM:-0400
TZOFFSETTO:-0500
TZNAME:EST
DTSTART:20241103T060000
END:STANDARD
BEGIN:DAYLIGHT
TZOFFSETFROM:-0500
TZOFFSETTO:-0400
TZNAME:EDT
DTSTART:20250309T070000
END:DAYLIGHT
BEGIN:STANDARD
TZOFFSETFROM:-0400
TZOFFSETTO:-0500
TZNAME:EST
DTSTART:20251102T060000
END:STANDARD
END:VTIMEZONE
BEGIN:VEVENT
DTSTART;TZID=America/Thunder_Bay:20240505T103000
DTEND;TZID=America/Thunder_Bay:20240505T113000
DTSTAMP:20260421T192129
CREATED:20240219T174559Z
LAST-MODIFIED:20240219T174745Z
UID:735-1714905000-1714908600@trinityunited.church
SUMMARY:Morning Worship: Music Matters at St. Paul's
DESCRIPTION:Trinity and other sister churches will be participating in the Music Matters 2024 Sunday morning worship service\, to be held at St. Paul’s\, on May 5. Everyone is encouraged to attend this special musical service in the pews at St. Paul’s\, or via live-streaming (at tbayunitedmedia.ca or on Trinity Live). Trinity will be closed.
URL:https://trinityunited.church/event/morning-worship-will-be-at-st-pauls/
LOCATION:St. Paul’s United\, 349 Waverley St\, Thunder Bay\, Ontario\, P7B 1B7\, Canada
END:VEVENT
END:VCALENDAR