BEGIN:VCALENDAR
VERSION:2.0
PRODID:-//Trinity United - ECPv6.15.20//NONSGML v1.0//EN
CALSCALE:GREGORIAN
METHOD:PUBLISH
X-WR-CALNAME:Trinity United
X-ORIGINAL-URL:https://trinityunited.church
X-WR-CALDESC:Events for Trinity United
REFRESH-INTERVAL;VALUE=DURATION:PT1H
X-Robots-Tag:noindex
X-PUBLISHED-TTL:PT1H
BEGIN:VTIMEZONE
TZID:America/Thunder_Bay
BEGIN:DAYLIGHT
TZOFFSETFROM:-0500
TZOFFSETTO:-0400
TZNAME:EDT
DTSTART:20230312T070000
END:DAYLIGHT
BEGIN:STANDARD
TZOFFSETFROM:-0400
TZOFFSETTO:-0500
TZNAME:EST
DTSTART:20231105T060000
END:STANDARD
BEGIN:DAYLIGHT
TZOFFSETFROM:-0500
TZOFFSETTO:-0400
TZNAME:EDT
DTSTART:20240310T070000
END:DAYLIGHT
BEGIN:STANDARD
TZOFFSETFROM:-0400
TZOFFSETTO:-0500
TZNAME:EST
DTSTART:20241103T060000
END:STANDARD
BEGIN:DAYLIGHT
TZOFFSETFROM:-0500
TZOFFSETTO:-0400
TZNAME:EDT
DTSTART:20250309T070000
END:DAYLIGHT
BEGIN:STANDARD
TZOFFSETFROM:-0400
TZOFFSETTO:-0500
TZNAME:EST
DTSTART:20251102T060000
END:STANDARD
END:VTIMEZONE
BEGIN:VEVENT
DTSTART;TZID=America/Thunder_Bay:20240418T120000
DTEND;TZID=America/Thunder_Bay:20240418T130000
DTSTAMP:20260422T174832
CREATED:20240415T014346Z
LAST-MODIFIED:20240415T014435Z
UID:779-1713441600-1713445200@trinityunited.church
SUMMARY:Ladies´ Lunch
DESCRIPTION:Trinity Ladies’ Lunch is scheduled for Thursday\, April 18 in the Assembly Room of Trinity at a cost of $10. Guest speaker will be Jo-Ann Levata of CAA bringing us some “Travel Tips”. Bring a loonie for the draw and why not bring a friend. Reservations can be made by calling Lee-Ann at 807-345-6255
URL:https://trinityunited.church/event/ladieslunch/
LOCATION:Trinity United Church
END:VEVENT
END:VCALENDAR