BEGIN:VCALENDAR
VERSION:2.0
PRODID:-//Trinity United - ECPv6.15.20//NONSGML v1.0//EN
CALSCALE:GREGORIAN
METHOD:PUBLISH
X-ORIGINAL-URL:https://trinityunited.church
X-WR-CALDESC:Events for Trinity United
REFRESH-INTERVAL;VALUE=DURATION:PT1H
X-Robots-Tag:noindex
X-PUBLISHED-TTL:PT1H
BEGIN:VTIMEZONE
TZID:America/Thunder_Bay
BEGIN:DAYLIGHT
TZOFFSETFROM:-0500
TZOFFSETTO:-0400
TZNAME:EDT
DTSTART:20230312T070000
END:DAYLIGHT
BEGIN:STANDARD
TZOFFSETFROM:-0400
TZOFFSETTO:-0500
TZNAME:EST
DTSTART:20231105T060000
END:STANDARD
BEGIN:DAYLIGHT
TZOFFSETFROM:-0500
TZOFFSETTO:-0400
TZNAME:EDT
DTSTART:20240310T070000
END:DAYLIGHT
BEGIN:STANDARD
TZOFFSETFROM:-0400
TZOFFSETTO:-0500
TZNAME:EST
DTSTART:20241103T060000
END:STANDARD
BEGIN:DAYLIGHT
TZOFFSETFROM:-0500
TZOFFSETTO:-0400
TZNAME:EDT
DTSTART:20250309T070000
END:DAYLIGHT
BEGIN:STANDARD
TZOFFSETFROM:-0400
TZOFFSETTO:-0500
TZNAME:EST
DTSTART:20251102T060000
END:STANDARD
END:VTIMEZONE
BEGIN:VEVENT
DTSTART;TZID=America/Thunder_Bay:20240329T103000
DTEND;TZID=America/Thunder_Bay:20240329T113000
DTSTAMP:20260422T004300
CREATED:20240219T204608Z
LAST-MODIFIED:20240219T204608Z
UID:752-1711708200-1711711800@trinityunited.church
SUMMARY:Good Friday
DESCRIPTION:There will be a Good Friday streamed service at 10:30 a.m. on March 29. The service will take place at Trinity\, but will be led by St.Paul’s\, with Rev. Desire Tiriwepi presiding.
URL:https://trinityunited.church/event/good-friday-2/
LOCATION:Trinity United Church
END:VEVENT
BEGIN:VEVENT
DTSTART;TZID=America/Thunder_Bay:20240329T193000
DTEND;TZID=America/Thunder_Bay:20240329T210000
DTSTAMP:20260422T004300
CREATED:20240324T021523Z
LAST-MODIFIED:20240324T021523Z
UID:763-1711740600-1711746000@trinityunited.church
SUMMARY:Haydn’s Seven Last Words of Jesus
DESCRIPTION:Franz Joseph Haydn’s Seven Last Words of Our Saviour on The Cross will be performed on Good Friday evening (Mar.29) at 7:30\, at Trinity. The musicians will be Kathlyn Stevens\, violin; William Sirois\, violin; John Sellick\, viola; and Peter Cosbey\, cello. Admission is by free will offering. \nClick HERE to view poster.
URL:https://trinityunited.church/event/haydns-seven-last-words-of-jesus/
LOCATION:Trinity United Church
END:VEVENT
END:VCALENDAR