BEGIN:VCALENDAR
VERSION:2.0
PRODID:-//Trinity United - ECPv6.15.20//NONSGML v1.0//EN
CALSCALE:GREGORIAN
METHOD:PUBLISH
X-WR-CALNAME:Trinity United
X-ORIGINAL-URL:https://trinityunited.church
X-WR-CALDESC:Events for Trinity United
REFRESH-INTERVAL;VALUE=DURATION:PT1H
X-Robots-Tag:noindex
X-PUBLISHED-TTL:PT1H
BEGIN:VTIMEZONE
TZID:America/Thunder_Bay
BEGIN:DAYLIGHT
TZOFFSETFROM:-0500
TZOFFSETTO:-0400
TZNAME:EDT
DTSTART:20230312T070000
END:DAYLIGHT
BEGIN:STANDARD
TZOFFSETFROM:-0400
TZOFFSETTO:-0500
TZNAME:EST
DTSTART:20231105T060000
END:STANDARD
BEGIN:DAYLIGHT
TZOFFSETFROM:-0500
TZOFFSETTO:-0400
TZNAME:EDT
DTSTART:20240310T070000
END:DAYLIGHT
BEGIN:STANDARD
TZOFFSETFROM:-0400
TZOFFSETTO:-0500
TZNAME:EST
DTSTART:20241103T060000
END:STANDARD
BEGIN:DAYLIGHT
TZOFFSETFROM:-0500
TZOFFSETTO:-0400
TZNAME:EDT
DTSTART:20250309T070000
END:DAYLIGHT
BEGIN:STANDARD
TZOFFSETFROM:-0400
TZOFFSETTO:-0500
TZNAME:EST
DTSTART:20251102T060000
END:STANDARD
END:VTIMEZONE
BEGIN:VEVENT
DTSTART;TZID=America/Thunder_Bay:20240303T120000
DTEND;TZID=America/Thunder_Bay:20240303T130000
DTSTAMP:20260423T001214
CREATED:20240116T045401Z
LAST-MODIFIED:20240219T175348Z
UID:721-1709467200-1709470800@trinityunited.church
SUMMARY:Trinity Annual Meeting
DESCRIPTION:Trinity’s Annual Meeting will take place Sunday\, March 3\, 2024 (rescheduled from February 25)\, following church and a light lunch\, (so somewhere around noon). The agenda will include:  2023 Annual Reports from all Committees\, 2023 Financial Statements\,  Nominating Report\,  2024 Budget\, and  New Business.
URL:https://trinityunited.church/event/trinity-annual-meeting/
LOCATION:Trinity United Church
END:VEVENT
END:VCALENDAR