BEGIN:VCALENDAR
VERSION:2.0
PRODID:-//Trinity United - ECPv6.15.20//NONSGML v1.0//EN
CALSCALE:GREGORIAN
METHOD:PUBLISH
X-ORIGINAL-URL:https://trinityunited.church
X-WR-CALDESC:Events for Trinity United
REFRESH-INTERVAL;VALUE=DURATION:PT1H
X-Robots-Tag:noindex
X-PUBLISHED-TTL:PT1H
BEGIN:VTIMEZONE
TZID:America/Thunder_Bay
BEGIN:DAYLIGHT
TZOFFSETFROM:-0500
TZOFFSETTO:-0400
TZNAME:EDT
DTSTART:20230312T070000
END:DAYLIGHT
BEGIN:STANDARD
TZOFFSETFROM:-0400
TZOFFSETTO:-0500
TZNAME:EST
DTSTART:20231105T060000
END:STANDARD
BEGIN:DAYLIGHT
TZOFFSETFROM:-0500
TZOFFSETTO:-0400
TZNAME:EDT
DTSTART:20240310T070000
END:DAYLIGHT
BEGIN:STANDARD
TZOFFSETFROM:-0400
TZOFFSETTO:-0500
TZNAME:EST
DTSTART:20241103T060000
END:STANDARD
BEGIN:DAYLIGHT
TZOFFSETFROM:-0500
TZOFFSETTO:-0400
TZNAME:EDT
DTSTART:20250309T070000
END:DAYLIGHT
BEGIN:STANDARD
TZOFFSETFROM:-0400
TZOFFSETTO:-0500
TZNAME:EST
DTSTART:20251102T060000
END:STANDARD
END:VTIMEZONE
BEGIN:VEVENT
DTSTART;TZID=America/Thunder_Bay:20240106T133000
DTEND;TZID=America/Thunder_Bay:20240106T153000
DTSTAMP:20260421T092643
CREATED:20231204T182043Z
LAST-MODIFIED:20231220T044318Z
UID:688-1704547800-1704555000@trinityunited.church
SUMMARY:Retirement Tea for Joan Bailey
DESCRIPTION:A (Drop-In) Retirement Tea is planned for Saturday\, January 6\, 2024 from 1:30 to 3:30 pm in Trinity Hall to bid farewell to Joan Bailey who is retiring on December 31 after many years of faithful and loyal service to Trinity. Please VIEW THE POSTER for more information.
URL:https://trinityunited.church/event/retirement-tea-for-joan-bailey/
LOCATION:Trinity United Church
END:VEVENT
END:VCALENDAR