BEGIN:VCALENDAR
VERSION:2.0
PRODID:-//Trinity United - ECPv6.15.20//NONSGML v1.0//EN
CALSCALE:GREGORIAN
METHOD:PUBLISH
X-WR-CALNAME:Trinity United
X-ORIGINAL-URL:https://trinityunited.church
X-WR-CALDESC:Events for Trinity United
REFRESH-INTERVAL;VALUE=DURATION:PT1H
X-Robots-Tag:noindex
X-PUBLISHED-TTL:PT1H
BEGIN:VTIMEZONE
TZID:America/Thunder_Bay
BEGIN:DAYLIGHT
TZOFFSETFROM:-0500
TZOFFSETTO:-0400
TZNAME:EDT
DTSTART:20220313T070000
END:DAYLIGHT
BEGIN:STANDARD
TZOFFSETFROM:-0400
TZOFFSETTO:-0500
TZNAME:EST
DTSTART:20221106T060000
END:STANDARD
BEGIN:DAYLIGHT
TZOFFSETFROM:-0500
TZOFFSETTO:-0400
TZNAME:EDT
DTSTART:20230312T070000
END:DAYLIGHT
BEGIN:STANDARD
TZOFFSETFROM:-0400
TZOFFSETTO:-0500
TZNAME:EST
DTSTART:20231105T060000
END:STANDARD
BEGIN:DAYLIGHT
TZOFFSETFROM:-0500
TZOFFSETTO:-0400
TZNAME:EDT
DTSTART:20240310T070000
END:DAYLIGHT
BEGIN:STANDARD
TZOFFSETFROM:-0400
TZOFFSETTO:-0500
TZNAME:EST
DTSTART:20241103T060000
END:STANDARD
END:VTIMEZONE
BEGIN:VEVENT
DTSTART;TZID=America/Thunder_Bay:20231112T103000
DTEND;TZID=America/Thunder_Bay:20231112T113000
DTSTAMP:20260421T073215
CREATED:20231108T023658Z
LAST-MODIFIED:20231108T023658Z
UID:668-1699785000-1699788600@trinityunited.church
SUMMARY:Sunday Morning Streamed Worship Service
DESCRIPTION:Host Church: Trinity\nWorship Leader: Anne MacDonald
URL:https://trinityunited.church/event/sunday-morning-streamed-worship-service/
LOCATION:Trinity United Church
END:VEVENT
BEGIN:VEVENT
DTSTART;TZID=America/Thunder_Bay:20231112T193000
DTEND;TZID=America/Thunder_Bay:20231112T203000
DTSTAMP:20260421T073215
CREATED:20231108T022921Z
LAST-MODIFIED:20231108T022921Z
UID:664-1699817400-1699821000@trinityunited.church
SUMMARY:Applauze/Trinity Concert
DESCRIPTION:Sunday\, November 12 7:30 pm\nThis is the second concert organized by Applauze Productions in support of Trinity United Church. Doors open at 7:00 pm. Cost is $20 for adults and $15 for children under 12. Tickets may be obtained at the door or online.\nTrinity Senior Choir will also be part of the program.\nClick HERE to view the poster\, for more information.
URL:https://trinityunited.church/event/applauze-trinity-concert/
LOCATION:Trinity United Church
END:VEVENT
END:VCALENDAR