BEGIN:VCALENDAR
VERSION:2.0
PRODID:-//Trinity United - ECPv6.15.20//NONSGML v1.0//EN
CALSCALE:GREGORIAN
METHOD:PUBLISH
X-WR-CALNAME:Trinity United
X-ORIGINAL-URL:https://trinityunited.church
X-WR-CALDESC:Events for Trinity United
REFRESH-INTERVAL;VALUE=DURATION:PT1H
X-Robots-Tag:noindex
X-PUBLISHED-TTL:PT1H
BEGIN:VTIMEZONE
TZID:America/Thunder_Bay
BEGIN:DAYLIGHT
TZOFFSETFROM:-0500
TZOFFSETTO:-0400
TZNAME:EDT
DTSTART:20220313T070000
END:DAYLIGHT
BEGIN:STANDARD
TZOFFSETFROM:-0400
TZOFFSETTO:-0500
TZNAME:EST
DTSTART:20221106T060000
END:STANDARD
BEGIN:DAYLIGHT
TZOFFSETFROM:-0500
TZOFFSETTO:-0400
TZNAME:EDT
DTSTART:20230312T070000
END:DAYLIGHT
BEGIN:STANDARD
TZOFFSETFROM:-0400
TZOFFSETTO:-0500
TZNAME:EST
DTSTART:20231105T060000
END:STANDARD
BEGIN:DAYLIGHT
TZOFFSETFROM:-0500
TZOFFSETTO:-0400
TZNAME:EDT
DTSTART:20240310T070000
END:DAYLIGHT
BEGIN:STANDARD
TZOFFSETFROM:-0400
TZOFFSETTO:-0500
TZNAME:EST
DTSTART:20241103T060000
END:STANDARD
END:VTIMEZONE
BEGIN:VEVENT
DTSTART;TZID=America/Thunder_Bay:20230520T093000
DTEND;TZID=America/Thunder_Bay:20230520T120000
DTSTAMP:20260421T171247
CREATED:20230517T173034Z
LAST-MODIFIED:20230517T173034Z
UID:574-1684575000-1684584000@trinityunited.church
SUMMARY:Trinity Grounds Clean-Up
DESCRIPTION:CAN YOU HELP? Calling all healthy Trinity folk…including young people. Bring a rake and wear safe shoes and gloves to help with the cleaning of Trinity grounds. Bags and other supplies provided. Snacks and beverages on hand.
URL:https://trinityunited.church/event/trinity-grounds-clean-up/
LOCATION:Trinity United Church
END:VEVENT
END:VCALENDAR