BEGIN:VCALENDAR
VERSION:2.0
PRODID:-//Trinity United - ECPv6.15.20//NONSGML v1.0//EN
CALSCALE:GREGORIAN
METHOD:PUBLISH
X-WR-CALNAME:Trinity United
X-ORIGINAL-URL:https://trinityunited.church
X-WR-CALDESC:Events for Trinity United
REFRESH-INTERVAL;VALUE=DURATION:PT1H
X-Robots-Tag:noindex
X-PUBLISHED-TTL:PT1H
BEGIN:VTIMEZONE
TZID:America/Thunder_Bay
BEGIN:DAYLIGHT
TZOFFSETFROM:-0500
TZOFFSETTO:-0400
TZNAME:EDT
DTSTART:20220313T070000
END:DAYLIGHT
BEGIN:STANDARD
TZOFFSETFROM:-0400
TZOFFSETTO:-0500
TZNAME:EST
DTSTART:20221106T060000
END:STANDARD
BEGIN:DAYLIGHT
TZOFFSETFROM:-0500
TZOFFSETTO:-0400
TZNAME:EDT
DTSTART:20230312T070000
END:DAYLIGHT
BEGIN:STANDARD
TZOFFSETFROM:-0400
TZOFFSETTO:-0500
TZNAME:EST
DTSTART:20231105T060000
END:STANDARD
BEGIN:DAYLIGHT
TZOFFSETFROM:-0500
TZOFFSETTO:-0400
TZNAME:EDT
DTSTART:20240310T070000
END:DAYLIGHT
BEGIN:STANDARD
TZOFFSETFROM:-0400
TZOFFSETTO:-0500
TZNAME:EST
DTSTART:20241103T060000
END:STANDARD
END:VTIMEZONE
BEGIN:VEVENT
DTSTART;TZID=America/Thunder_Bay:20230512T190000
DTEND;TZID=America/Thunder_Bay:20230512T203000
DTSTAMP:20260421T125320
CREATED:20230505T154017Z
LAST-MODIFIED:20230505T154108Z
UID:540-1683918000-1683923400@trinityunited.church
SUMMARY:Movie Night
DESCRIPTION:Trinity Movie Night is Back!!! Trinity’s CE Committee is hosting a movie night in May and June so mark your calendars now. “Jesus Revolution” will be shown on May 12 starting at 7:00 pm in Trinity Hall. \nIn the 1970’s\, Greg Laurie and a sea of young people descend on sunny Southern California to redefine truth through all means of liberation. Inadvertently\, Laurie meets a charismatic street preacher and a pastor who open the doors to a church to a stream of wandering youth. What unfolds is a counterculture movement that becomes the greatest spiritual awakening in American history. \nUse the ramp door on Park Avenue. Free Admission with popcorn and refreshments available. Short discussion to follow the movie. Why not bring a friend?  \nThe June movie to be shown is “A Man Named Otto”.
URL:https://trinityunited.church/event/movie-night/
LOCATION:Trinity United Church
END:VEVENT
END:VCALENDAR